Workbook

Sheet 1
A1: Школа | B1: МКОУ Маршанская СШ | E1: Отд./корп | I1: Дата | J1: 46289
A3: Прием пищи | B3: Раздел | C3: № рец. | D3: Блюдо | E3: Выход, г | F3: Цена | G3: Калорийность | H3: Белки | I3: Жиры | J3: Углеводы
A4: Завтрак | B4: гор.блюдо
B6: гор.напиток
B7: хлеб
B8: фрукты
A11: Завтрак 2 | B11: фрукты
A14: Обед | B14: =[1]Лист1!D166 -> закуска | C14: =[1]Лист1!K166 -> 54-15з-2020 | D14: =[1]Лист1!E166 -> Икра свекольная | E14: =[1]Лист1!F166 -> 80 | G14: =[1]Лист1!J166 -> 95.2 | H14: =[1]Лист1!G166 -> 1.8 | I14: =[1]Лист1!H166 -> 5.7 | J14: =[1]Лист1!I166 -> 9.1
B15: =[1]Лист1!D167 -> 1 блюдо | C15: =[1]Лист1!K167 -> 54-7с-2020 | D15: =[1]Лист1!E167 -> Суп картофельный с макаронными изделиями | E15: =[1]Лист1!F167 -> 200 | G15: =[1]Лист1!J167 -> 119.6 | H15: =[1]Лист1!G167 -> 5.2 | I15: =[1]Лист1!H167 -> 2.8 | J15: =[1]Лист1!I167 -> 18.5
B16: =[1]Лист1!D168 -> 2 блюдо | C16: =[1]Лист1!K168 -> 54-9р-2020 | D16: =[1]Лист1!E168 -> Рыба запеченная в сметанном соусе(минтай) | E16: =[1]Лист1!F168 -> 100 | G16: =[1]Лист1!J168 -> 258.3 | H16: =[1]Лист1!G168 -> 15.1 | I16: =[1]Лист1!H168 -> 20 | J16: =[1]Лист1!I168 -> 4.3
B17: =[1]Лист1!D169 -> гарнир | C17: =[1]Лист1!K169 -> 54-11г-2020 | D17: =[1]Лист1!E169 -> Картофельное пюре | E17: =[1]Лист1!F169 -> 150 | G17: =[1]Лист1!J169 -> 145.8 | H17: =[1]Лист1!G169 -> 3.1 | I17: =[1]Лист1!H169 -> 6.1 | J17: =[1]Лист1!I169 -> 19.8
B18: =[1]Лист1!D170 -> напиток | C18: =[1]Лист1!K170 -> пром | D18: =[1]Лист1!E170 -> Сок фруктовый, ягодный | E18: =[1]Лист1!F170 -> 200 | G18: =[1]Лист1!J170 -> 86.6 | H18: =[1]Лист1!G170 -> 1 | I18: =[1]Лист1!H170 -> 0.2 | J18: =[1]Лист1!I170 -> 20.2
B19: =[1]Лист1!D171 -> хлеб бел. | C19: =[1]Лист1!K171 -> пром | D19: =[1]Лист1!E171 -> Хлеб пшеничный | E19: =[1]Лист1!F171 -> 25 | G19: =[1]Лист1!J171 -> 58.6 | H19: =[1]Лист1!G171 -> 1.9 | I19: =[1]Лист1!H171 -> 0.2 | J19: =[1]Лист1!I171 -> 12.3
B20: =[1]Лист1!D172 -> хлеб черн. | C20: =[1]Лист1!K172 -> пром | D20: =[1]Лист1!E172 -> Хлеб ржаной | E20: =[1]Лист1!F172 -> 25 | G20: =[1]Лист1!J172 -> 42.7 | H20: =[1]Лист1!G172 -> 1.65 | I20: =[1]Лист1!H172 -> 0.3 | J20: =[1]Лист1!I172 -> 8.35
A23: Полдник | B23: булочное
B24: напиток
A27: Ужин | B27: гор.блюдо
B28: гарнир
B29: напиток
B30: хлеб
A33: Ужин 2 | B33: кисломол.
B34: булочное
B35: напиток
B36: фрукты
