Workbook

Sheet 1
A1: Школа | B1: МКОУ Маршанская СШ | E1: Отд./корп | I1: Дата | J1: 46287
A3: Прием пищи | B3: Раздел | C3: № рец. | D3: Блюдо | E3: Выход, г | F3: Цена | G3: Калорийность | H3: Белки | I3: Жиры | J3: Углеводы
A4: Завтрак | B4: гор.блюдо
B6: гор.напиток
B7: хлеб
B8: фрукты
A11: Завтрак 2 | B11: фрукты
A14: Обед | B14: закуска | C14: =[1]Лист1!K128 -> 54-5з-2020 | D14: =[1]Лист1!E128 -> Салат из свежих помидоров и огурцов | E14: =[1]Лист1!F128 -> 80 | G14: =[1]Лист1!J128 -> 49.9 | H14: =[1]Лист1!G128 -> 0.7 | I14: =[1]Лист1!H128 -> 4.1 | J14: =[1]Лист1!I128 -> 2.5
B15: 1 блюдо | C15: =[1]Лист1!K129 -> 78 | D15: =[1]Лист1!E129 -> Суп крестьянский с крупой(рисовой) | E15: =[1]Лист1!F129 -> 250 | G15: =[1]Лист1!J129 -> 85.75 | H15: =[1]Лист1!G129 -> 1.97 | I15: =[1]Лист1!H129 -> 2.71 | J15: =[1]Лист1!I129 -> 12.11
B16: 2 блюдо | C16: =[1]Лист1!K130 -> 54-2м-2020 | D16: =[1]Лист1!E130 -> Гуляш из говядины | E16: =[1]Лист1!F130 -> 100 | G16: =[1]Лист1!J130 -> 188.9 | H16: =[1]Лист1!G130 -> 13.58 | I16: =[1]Лист1!H130 -> 13.59 | J16: =[1]Лист1!I130 -> 3.09
B17: гарнир | C17: =[1]Лист1!K131 -> 54-4г-2020 | D17: =[1]Лист1!E131 -> Каша гречневая рассыпчатая | E17: =[1]Лист1!F131 -> 150 | G17: =[1]Лист1!J131 -> 238.9 | H17: =[1]Лист1!G131 -> 8.21 | I17: =[1]Лист1!H131 -> 6.94 | J17: =[1]Лист1!I131 -> 35.9
B18: напиток | C18: =[1]Лист1!K132 -> 54-5хн-2020 | D18: =[1]Лист1!E132 -> Компот из кураги | E18: =[1]Лист1!F132 -> 200 | G18: =[1]Лист1!J132 -> 102.2 | H18: =[1]Лист1!G132 -> 1.81 | I18: =[1]Лист1!H132 -> 0.1 | J18: =[1]Лист1!I132 -> 23.53
B19: хлеб бел. | C19: =[1]Лист1!K133 -> пром | D19: =[1]Лист1!E133 -> Хлеб пшеничный | E19: =[1]Лист1!F133 -> 25 | G19: =[1]Лист1!J133 -> 58.6 | H19: =[1]Лист1!G133 -> 1.9 | I19: =[1]Лист1!H133 -> 0.2 | J19: =[1]Лист1!I133 -> 12.3
B20: хлеб черн. | C20: =[1]Лист1!K134 -> пром | D20: =[1]Лист1!E134 -> Хлеб ржаной | E20: =[1]Лист1!F134 -> 25 | G20: =[1]Лист1!J134 -> 42.7 | H20: =[1]Лист1!G134 -> 1.65 | I20: =[1]Лист1!H134 -> 0.3 | J20: =[1]Лист1!I134 -> 8.35
A23: Полдник | B23: булочное
B24: напиток
A27: Ужин | B27: гор.блюдо
B28: гарнир
B29: напиток
B30: хлеб
A33: Ужин 2 | B33: кисломол.
B34: булочное
B35: напиток
B36: фрукты
